BEGIN:VCALENDAR
PRODID:-//kirchenweb.ch gmbh//veranstaltungsausgabe v2.0//DE
VERSION:2.0
METHOD:PUBLISH
BEGIN:VEVENT
DTSTART:20250219T090000Z
DTEND:20250219T100000Z
LOCATION:aarvital Pflegezentrum\, Lyssstrasse 2\, 3270 Aarberg
TRANSP:OPAQUE
SEQUENCE:0
UID:80891-veranstaltung@kirchenregion-aarberg.ch
DTSTAMP:20250106T115526Z
DESCRIPTION:Piano: Sebestyén Nyírő \n\nKontakt: Pfarrerin Rahel
  Vögeli-Siegenthaler\nTelefon 032 392 11 55\n\nWeitere Infos:
  https://www.kirchenregion-aarberg.ch/veranstaltung/80891
SUMMARY:Andacht im Pflegezentrum aarvital mit Pfrn. Rahel
  Vögeli-Siegenthaler
PRIORITY:5
X-MICROSOFT-CDO-IMPORTANCE:1
CLASS:PUBLIC
END:VEVENT
END:VCALENDAR
