BEGIN:VCALENDAR
PRODID:-//kirchenweb.ch gmbh//veranstaltungsausgabe v2.0//DE
VERSION:2.0
METHOD:PUBLISH
BEGIN:VEVENT
DTSTART:20250314T180000Z
DTEND:20250314T190000Z
LOCATION:Kirche Aarberg\, Stadtplatz 39\, 3270 Aarberg
TRANSP:OPAQUE
SEQUENCE:0
UID:82153-veranstaltung@kirchenregion-aarberg.ch
DTSTAMP:20250310T085040Z
DESCRIPTION:Katechetin Michaela Amstutz und Team mit den 7. Klassen\,
  Organistin Kerstin Denecke\n\nKontakt: Michaela Amstutz
 \nmichaela.amstutz@kirchenregion-aarberg.ch\n076 576 65 02\n\nWeitere
  Infos: https://www.kirchenregion-aarberg.ch/veranstaltung/82153
SUMMARY:abgesagt: KUW- Gottesdienst 7. Klassen
PRIORITY:5
X-MICROSOFT-CDO-IMPORTANCE:1
CLASS:PUBLIC
END:VEVENT
END:VCALENDAR
