BEGIN:VCALENDAR
PRODID:-//kirchenweb.ch gmbh//veranstaltungsausgabe v2.0//DE
VERSION:2.0
METHOD:PUBLISH
BEGIN:VEVENT
DTSTART:20250323T090000Z
DTEND:20250323T100000Z
LOCATION:Kirche Aarberg\, Stadtplatz 39\, 3270 Aarberg
TRANSP:OPAQUE
SEQUENCE:0
UID:82155-veranstaltung@kirchenregion-aarberg.ch
DTSTAMP:20250127T125355Z
DESCRIPTION:Helen Zita Schlatter\, Akkordeon\n\nKontakt: Pfarrer Ueli
  Bukies Tel: 079 902 36 00\n\n\nWeitere Infos:
  https://www.kirchenregion-aarberg.ch/veranstaltung/82155
SUMMARY:Gottesdienst
PRIORITY:5
X-MICROSOFT-CDO-IMPORTANCE:1
CLASS:PUBLIC
END:VEVENT
END:VCALENDAR
