BEGIN:VCALENDAR
PRODID:-//kirchenweb.ch gmbh//veranstaltungsausgabe v2.0//DE
VERSION:2.0
METHOD:PUBLISH
BEGIN:VEVENT
DTSTART:20250330T080000Z
DTEND:20250330T090000Z
LOCATION:Reformierte Kirche\, Stadtplatz 39\, 3270 Aarberg
TRANSP:OPAQUE
SEQUENCE:0
UID:82156-veranstaltung@kirchenregion-aarberg.ch
DTSTAMP:20250127T125428Z
DESCRIPTION:Orgel: Esther Marti\n\n\nKontakt: Pfarrerin Rahel
  Vögeli-Siegenthaler\nTelefon 032 392 11 55\n\nWeitere Infos:
  https://www.kirchenregion-aarberg.ch/veranstaltung/82156
SUMMARY:Gottesdienst
PRIORITY:5
X-MICROSOFT-CDO-IMPORTANCE:1
CLASS:PUBLIC
END:VEVENT
END:VCALENDAR
