BEGIN:VCALENDAR
PRODID:-//kirchenweb.ch gmbh//veranstaltungsausgabe v2.0//DE
VERSION:2.0
METHOD:PUBLISH
BEGIN:VEVENT
DTSTART:20250715T210000Z
DTEND:20250715T220000Z
LOCATION:Reformierte Kirche\, Stadtplatz 39\, 3270 Aarberg
TRANSP:OPAQUE
SEQUENCE:0
UID:84143-veranstaltung@kirchenregion-aarberg.ch
DTSTAMP:20250616T110932Z
DESCRIPTION:Gemütlicher Sommerapéro \n\nWir geniessen unter den
  Kastanienbäumen vor der Kirche \nden Sonnenuntergang\, wir diskutieren\,
  hören einander und \nden Vogelstimmen zu und teilen einen feinen Apéro 
 \nzusammen. \nSollte es draussen zu kühl oder zu nass sein\, findet der 
 \nApéro im Saal des Kirchgemeindehauses statt. \nAlle sind herzlich
  eingeladen. \nPfarrerin Rahel Vögeli und Sigristin Edith Liechti\n
 \nKontakt: Pfarrerin Rahel Vögeli-Siegenthaler\nTelefon 032 392 11 55\n
 \nWeitere Infos: https://www.kirchenregion-aarberg.ch/veranstaltung/84143
SUMMARY:Sommerapéro
PRIORITY:5
X-MICROSOFT-CDO-IMPORTANCE:1
CLASS:PUBLIC
END:VEVENT
END:VCALENDAR
