BEGIN:VCALENDAR
PRODID:-//kirchenweb.ch gmbh//veranstaltungsausgabe v2.0//DE
VERSION:2.0
METHOD:PUBLISH
BEGIN:VEVENT
DTSTART:20260503T080000Z
DTEND:20260503T090000Z
LOCATION:Kirche Aarberg\, \,
TRANSP:OPAQUE
SEQUENCE:0
UID:85876-veranstaltung@kirchenregion-aarberg.ch
DTSTAMP:20251205T232500Z
DESCRIPTION:Mit Pfr. Ueli Bukies\, den Konfirmand:innen und Organist Jürg
  Lietha\n\nKontakt: Pfr. Ueli Bukies\n\nWeitere Infos:
  https://www.kirchenregion-aarberg.ch/veranstaltung/85876
SUMMARY:Konfirmation Gruppe 1
PRIORITY:5
X-MICROSOFT-CDO-IMPORTANCE:1
CLASS:PUBLIC
END:VEVENT
END:VCALENDAR
