BEGIN:VCALENDAR
PRODID:-//kirchenweb.ch gmbh//veranstaltungsausgabe v2.0//DE
VERSION:2.0
METHOD:PUBLISH
BEGIN:VEVENT
DTSTART:20260328T083000Z
DTEND:20260328T104500Z
LOCATION:Kirche Aarberg\, Stadtplatz 39a\, 3270 Aarberg
TRANSP:OPAQUE
SEQUENCE:0
UID:86284-veranstaltung@kirchenregion-aarberg.ch
DTSTAMP:20250915T124510Z
DESCRIPTION:KUW Unterricht\, Vorbereitung Gottesdienst mit Katechetin
  Jolanda Baumgartner\nKlasse 3a und 3b (Gruppe 1 und 2)\n\nKontakt:
  Jolanda Baumgartner\n\nWeitere Infos:
  https://www.kirchenregion-aarberg.ch/veranstaltung/86284
SUMMARY:KUW 3a und 3b Gruppe 1 und 2
PRIORITY:5
X-MICROSOFT-CDO-IMPORTANCE:1
CLASS:PUBLIC
END:VEVENT
END:VCALENDAR
