BEGIN:VCALENDAR
PRODID:-//kirchenweb.ch gmbh//veranstaltungsausgabe v2.0//DE
VERSION:2.0
METHOD:PUBLISH
BEGIN:VEVENT
DTSTART:20260423T140000Z
DTEND:20260423T153000Z
LOCATION:Kirchgemeindehaus\, Stadtplatz 39a\, 3270 Aarberg
TRANSP:OPAQUE
SEQUENCE:0
UID:86358-veranstaltung@kirchenregion-aarberg.ch
DTSTAMP:20250915T215825Z
DESCRIPTION:KUW Unterricht mit Pfr. Ueli Bukies\n\nKontakt: Pfr. Ueli
  Bukies\n\nWeitere Infos:
  https://www.kirchenregion-aarberg.ch/veranstaltung/86358
SUMMARY:KUW 7 Gruppe 2
PRIORITY:5
X-MICROSOFT-CDO-IMPORTANCE:1
CLASS:PUBLIC
END:VEVENT
END:VCALENDAR
