BEGIN:VCALENDAR
PRODID:-//kirchenweb.ch gmbh//veranstaltungsausgabe v2.0//DE
VERSION:2.0
METHOD:PUBLISH
BEGIN:VEVENT
DTSTART:20260502T073000Z
DTEND:20260502T090000Z
LOCATION:Reformierte Kirche\, Stadtplatz 39\, 3270 Aarberg
TRANSP:OPAQUE
SEQUENCE:0
UID:86373-veranstaltung@kirchenregion-aarberg.ch
DTSTAMP:20250916T091815Z
DESCRIPTION:Hauptprobe Konfirmation mit Pfr. Ueli Bukies\n\nKontakt: Pfr.
  Ueli Bukies\n\nWeitere Infos:
  https://www.kirchenregion-aarberg.ch/veranstaltung/86373
SUMMARY:KUW 9 Gruppe 1
PRIORITY:5
X-MICROSOFT-CDO-IMPORTANCE:1
CLASS:PUBLIC
END:VEVENT
END:VCALENDAR
