BEGIN:VCALENDAR
PRODID:-//kirchenweb.ch gmbh//veranstaltungsausgabe v2.0//DE
VERSION:2.0
METHOD:PUBLISH
BEGIN:VEVENT
DTSTART:20260619T153000Z
DTEND:20260619T180000Z
LOCATION:Kirchgemeindehaus\, Stadtplatz 39a\, 3270 Aarberg
TRANSP:OPAQUE
SEQUENCE:0
UID:86989-veranstaltung@kirchenregion-aarberg.ch
DTSTAMP:20260320T073420Z
DESCRIPTION:Gemeinsam essen wir etwas Feines\, spielen ein Spiel\, hören
  eine Geschichte\, basteln etwas oder sehen uns auch einmal einen Film an.
  Wir verbringen einen gemütlichen und lustigen Abend zusammen. \n\n\n
 \nKontakt: Michaela Amstutz\n076 576 65 02\n\nWeitere Infos:
  https://www.kirchenregion-aarberg.ch/veranstaltung/86989
SUMMARY:Abgesagt: Kinder Znacht
PRIORITY:5
X-MICROSOFT-CDO-IMPORTANCE:1
CLASS:PUBLIC
END:VEVENT
END:VCALENDAR
