BEGIN:VCALENDAR
PRODID:-//kirchenweb.ch gmbh//veranstaltungsausgabe v2.0//DE
VERSION:2.0
METHOD:PUBLISH
BEGIN:VEVENT
DTSTART:20260506T080000Z
DTEND:20260506T093000Z
LOCATION:Kirchgemeindehaus\, Stadtplatz 39a\, 3270 Aarberg
TRANSP:OPAQUE
SEQUENCE:0
UID:86994-veranstaltung@kirchenregion-aarberg.ch
DTSTAMP:20260320T073442Z
DESCRIPTION:Zäme Zyt verbringen\, sich mit anderen Eltern austauschen\,
  evtl. Geschichten hören\, miteinander spielen. Dazu gemütlich Kaffee
  trinken und etwas knabbern. \n\nKontakt: Michaela Amstutz\n076 576 65 02
 \n\nWeitere Infos:
  https://www.kirchenregion-aarberg.ch/veranstaltung/86994
SUMMARY:Abgesagt: Familienzeit
PRIORITY:5
X-MICROSOFT-CDO-IMPORTANCE:1
CLASS:PUBLIC
END:VEVENT
END:VCALENDAR
