BEGIN:VCALENDAR
PRODID:-//kirchenweb.ch gmbh//veranstaltungsausgabe v2.0//DE
VERSION:2.0
METHOD:PUBLISH
BEGIN:VEVENT
DTSTART:20260520T110000Z
DTEND:20260520T160000Z
LOCATION:Kirchgemeindehaus / Natur\, Stadtplatz 39a\, 3270 Aarberg
TRANSP:OPAQUE
SEQUENCE:0
UID:87008-veranstaltung@kirchenregion-aarberg.ch
DTSTAMP:20260320T073708Z
DESCRIPTION:Für Kinder vom 2. Kindergarten bis zur 5. Klasse\n\nKontakt:
  Michaela Amstutz\n076 576 65 02\n\nWeitere Infos:
  https://www.kirchenregion-aarberg.ch/veranstaltung/87008
SUMMARY:Abgesagt: Ausflüge mit Kindern
PRIORITY:5
X-MICROSOFT-CDO-IMPORTANCE:1
CLASS:PUBLIC
END:VEVENT
END:VCALENDAR
