BEGIN:VCALENDAR
PRODID:-//kirchenweb.ch gmbh//veranstaltungsausgabe v2.0//DE
VERSION:2.0
METHOD:PUBLISH
BEGIN:VEVENT
DTSTART:20260415T070000Z
DTEND:20260415T080000Z
LOCATION:Kirchgemeindehaus\, Stadtplatz 39a\, 3270 Aarberg
TRANSP:OPAQUE
SEQUENCE:0
UID:87011-veranstaltung@kirchenregion-aarberg.ch
DTSTAMP:20260312T101427Z
DESCRIPTION:Spannende Kindertage ab dem 2. Kindergarten bis zur 5. Klasse.
  Magst du Tiere? Liebst du Abenteuer? Gemeinsam entdecken wir die
  spannende Welt der Tiere und wie wir sie und unsere Umwelt dabei
  schützen können. Wir freuen uns auf dich. \n\nKontakt: Michaela Amstutz
 \n076 576 65 02\n\nWeitere Infos:
  https://www.kirchenregion-aarberg.ch/veranstaltung/87011
SUMMARY:Abgesagt: Plauschtage Tierisch gut
PRIORITY:5
X-MICROSOFT-CDO-IMPORTANCE:1
CLASS:PUBLIC
END:VEVENT
END:VCALENDAR
