BEGIN:VCALENDAR
PRODID:-//kirchenweb.ch gmbh//veranstaltungsausgabe v2.0//DE
VERSION:2.0
METHOD:PUBLISH
BEGIN:VEVENT
DTSTART:20251116T090000Z
DTEND:20251116T100000Z
LOCATION:Kirche Aarberg\, Stadtplatz 39\, 3270 Aarberg
TRANSP:OPAQUE
SEQUENCE:0
UID:87019-veranstaltung@kirchenregion-aarberg.ch
DTSTAMP:20251111T095047Z
DESCRIPTION:Orgel: Sebestyén Nyírő\n\nKontakt: Simon Taverna\n079 875
  71 61\n\n\nWeitere Infos:
  https://www.kirchenregion-aarberg.ch/veranstaltung/87019
SUMMARY:Gottesdienst\, anschl. Kirchgemeindeversammlung
PRIORITY:5
X-MICROSOFT-CDO-IMPORTANCE:1
CLASS:PUBLIC
END:VEVENT
END:VCALENDAR
