BEGIN:VCALENDAR
PRODID:-//kirchenweb.ch gmbh//veranstaltungsausgabe v2.0//DE
VERSION:2.0
METHOD:PUBLISH
BEGIN:VEVENT
DTSTART:20251119T090000Z
DTEND:20251119T100000Z
LOCATION:aarvital Pflegezentrum\, Lyssstrasse 2\, 3270 Aarberg
TRANSP:OPAQUE
SEQUENCE:0
UID:87027-veranstaltung@kirchenregion-aarberg.ch
DTSTAMP:20251016T174525Z
DESCRIPTION:Piano:  Sebestyén Nyírő\n\nKontakt: Franziska Jordi
 \nfranziska.jordi@kirche-aarberg.ch\n076 831 45 51\n\n\nWeitere Infos:
  https://www.kirchenregion-aarberg.ch/veranstaltung/87027
SUMMARY:Andacht im Pflegezentrum aarvital
PRIORITY:5
X-MICROSOFT-CDO-IMPORTANCE:1
CLASS:PUBLIC
END:VEVENT
END:VCALENDAR
