BEGIN:VCALENDAR
PRODID:-//kirchenweb.ch gmbh//veranstaltungsausgabe v2.0//DE
VERSION:2.0
METHOD:PUBLISH
BEGIN:VEVENT
DTSTART:20251231T160000Z
DTEND:20251231T170000Z
LOCATION:Kirche Aarberg\, Stadtplatz 39\, 3270 Aarberg
TRANSP:OPAQUE
SEQUENCE:0
UID:87033-veranstaltung@kirchenregion-aarberg.ch
DTSTAMP:20251222T221049Z
DESCRIPTION:Mit Pfarrer Reto Bichsel-Triches\nOrgel: Sebestyén Nyírő
 \nKlarinette: Simon Wyrsch\n\nTöne werden zu Bildern\, Melodien und
  Rhythmen zu Gemälden\, Gedanken lassen andere anklingen.\n\nEin
  Besinnlicher Einstieg zu Ihrer Silvesterfeier. Anschliessend stossen wir
  aufs neue Jahr an.\n\n\nKontakt: Pfr. Reto Bichsel\n077 457 24 19\n
 \nWeitere Infos: https://www.kirchenregion-aarberg.ch/veranstaltung/87033
SUMMARY:Gottesdienst zum Silvester
PRIORITY:5
X-MICROSOFT-CDO-IMPORTANCE:1
CLASS:PUBLIC
END:VEVENT
END:VCALENDAR
