BEGIN:VCALENDAR
PRODID:-//kirchenweb.ch gmbh//veranstaltungsausgabe v2.0//DE
VERSION:2.0
METHOD:PUBLISH
BEGIN:VEVENT
DTSTART:20260415T080000Z
DTEND:20260415T090000Z
LOCATION:aarvital Pflegezentrum\, Lyssstrasse 2\, 3270 Aarberg
TRANSP:OPAQUE
SEQUENCE:0
UID:88228-veranstaltung@kirchenregion-aarberg.ch
DTSTAMP:20251205T215446Z
DESCRIPTION:Mit Pfrn. Franziska Jordi und Sebestyén Nyírő am Piano\n
 \nKontakt: Franziska Jordi\nfranziska.jordi@kirche-aarberg.ch\n076 831 45
  51\n\n\nWeitere Infos:
  https://www.kirchenregion-aarberg.ch/veranstaltung/88228
SUMMARY:Andacht im Pflegezentrum aarvital mit Abendmahl
PRIORITY:5
X-MICROSOFT-CDO-IMPORTANCE:1
CLASS:PUBLIC
END:VEVENT
END:VCALENDAR
