BEGIN:VCALENDAR
PRODID:-//kirchenweb.ch gmbh//veranstaltungsausgabe v2.0//DE
VERSION:2.0
METHOD:PUBLISH
BEGIN:VEVENT
DTSTART:20260617T080000Z
DTEND:20260617T090000Z
LOCATION:aarvital Pflegezentrum\, Lyssstrasse 2\, 3270 Aarberg
TRANSP:OPAQUE
SEQUENCE:0
UID:88230-veranstaltung@kirchenregion-aarberg.ch
DTSTAMP:20260320T083138Z
DESCRIPTION:Mit Pfarrerin Franziska Jordi und AnnaTina Rösch am Piano\n
 \nKontakt: Pfrn. Franziska Jordi\n\nWeitere Infos:
  https://www.kirchenregion-aarberg.ch/veranstaltung/88230
SUMMARY:Andacht im Pflegezentrum aarvital
PRIORITY:5
X-MICROSOFT-CDO-IMPORTANCE:1
CLASS:PUBLIC
END:VEVENT
END:VCALENDAR
