BEGIN:VCALENDAR
PRODID:-//kirchenweb.ch gmbh//veranstaltungsausgabe v2.0//DE
VERSION:2.0
METHOD:PUBLISH
BEGIN:VEVENT
DTSTART:20260920T150000Z
DTEND:20260920T160000Z
LOCATION:Reformierte Kirche\, Stadtplatz 39\, 3270 Aarberg
TRANSP:OPAQUE
SEQUENCE:0
UID:88284-veranstaltung@kirchenregion-aarberg.ch
DTSTAMP:20260324T131053Z
DESCRIPTION:Mit Pfarrerin Franziska Jordi und Organist Sebestyén Nyírő
 \n\n\n\nKontakt: Pfrn. Franziska Jordi\n\nWeitere Infos:
  https://www.kirchenregion-aarberg.ch/veranstaltung/88284
SUMMARY:Gottesdienst zum Bettag mit Abendmahl
PRIORITY:5
X-MICROSOFT-CDO-IMPORTANCE:1
CLASS:PUBLIC
END:VEVENT
END:VCALENDAR
