BEGIN:VCALENDAR
PRODID:-//kirchenweb.ch gmbh//veranstaltungsausgabe v2.0//DE
VERSION:2.0
METHOD:PUBLISH
BEGIN:VEVENT
DTSTART:20261016T160000Z
DTEND:20261016T170000Z
LOCATION:Reformierte Kirche\, Stadtplatz 39\, 3270 Aarberg
TRANSP:OPAQUE
SEQUENCE:0
UID:88288-veranstaltung@kirchenregion-aarberg.ch
DTSTAMP:20260319T165041Z
DESCRIPTION:Organist Sebestyén Nyírő\n\n\nKontakt:
  kerstin.moeri@kirche-aarberg.ch\n\nWeitere Infos:
  https://www.kirchenregion-aarberg.ch/veranstaltung/88288
SUMMARY:Chinderfiire-Gottesdienst
PRIORITY:5
X-MICROSOFT-CDO-IMPORTANCE:1
CLASS:PUBLIC
END:VEVENT
END:VCALENDAR
