BEGIN:VCALENDAR
PRODID:-//kirchenweb.ch gmbh//veranstaltungsausgabe v2.0//DE
VERSION:2.0
METHOD:PUBLISH
BEGIN:VEVENT
DTSTART:20261122T090000Z
DTEND:20261122T100000Z
LOCATION:Reformierte Kirche\, Stadtplatz 39\, 3270 Aarberg
TRANSP:OPAQUE
SEQUENCE:0
UID:88294-veranstaltung@kirchenregion-aarberg.ch
DTSTAMP:20251206T110154Z
DESCRIPTION:Mit Pfrn. Franziska Jordi und Organistin Kerstin Denecke\nMit
  Gedenken an die Verstorbenen\n\n\nKontakt: Franziska Jordi
 \nfranziska.jordi@kirche-aarberg.ch\n076 831 45 51\n\n\nWeitere Infos:
  https://www.kirchenregion-aarberg.ch/veranstaltung/88294
SUMMARY:Ewigkeits-Gottesdienst
PRIORITY:5
X-MICROSOFT-CDO-IMPORTANCE:1
CLASS:PUBLIC
END:VEVENT
END:VCALENDAR
