BEGIN:VCALENDAR
PRODID:-//kirchenweb.ch gmbh//veranstaltungsausgabe v2.0//DE
VERSION:2.0
METHOD:PUBLISH
BEGIN:VEVENT
DTSTART:20260505T123000Z
DTEND:20260505T143000Z
LOCATION:aarvital Pflegezentrum\, Lyssstrasse 2\, 3270 Aarberg
TRANSP:OPAQUE
SEQUENCE:0
UID:88307-veranstaltung@kirchenregion-aarberg.ch
DTSTAMP:20260415T201806Z
DESCRIPTION:Im Pflegezentrum aarvital\n\nMit Pfrn. Franziska Jordi und
  Vili Gospodiva am Piano\n\nVili Gospodiva spielt Piano und Franziska
  Jordi liest aus dem Buch «Kindheit in der Schweiz- Erinnerungen.»
  Schweizer Autoren und Autorinnen erzählen darin packend und anschaulich
  von Schule und Arbeit\, Religion und Spiel\, von Grosseltern und anderen
  wunderbaren wie wunderlichen Erwachsenen. Anschliessend sind Sie herzlich
  zu einem z’Vieri eingeladen\n\n\nKontakt: Pfrn. Franziska Jordi\n
 \nWeitere Infos: https://www.kirchenregion-aarberg.ch/veranstaltung/88307
SUMMARY:Seniorentreffen
PRIORITY:5
X-MICROSOFT-CDO-IMPORTANCE:1
CLASS:PUBLIC
END:VEVENT
END:VCALENDAR
