BEGIN:VCALENDAR
PRODID:-//kirchenweb.ch gmbh//veranstaltungsausgabe v2.0//DE
VERSION:2.0
METHOD:PUBLISH
BEGIN:VEVENT
DTSTART:20261111T083000Z
DTEND:20261111T090000Z
LOCATION:Kirchgemeindehaus\, Stadtplatz 39a\, 3270 Aarberg
TRANSP:OPAQUE
SEQUENCE:0
UID:88321-veranstaltung@kirchenregion-aarberg.ch
DTSTAMP:20251207T113500Z
DESCRIPTION:Mit Pfrn. Franziska Jordi und Anna Tina Rösch am Piano\n
 \nAnschliessend sind Sie zu Kaffee und Züpfe eingeladen\n\n\n\n\n\n
 \nKontakt: Pfrn. Franziska Jordi\n\nWeitere Infos:
  https://www.kirchenregion-aarberg.ch/veranstaltung/88321
SUMMARY:Monatsandacht mit Pfrn. Franziska Jordi
PRIORITY:5
X-MICROSOFT-CDO-IMPORTANCE:1
CLASS:PUBLIC
END:VEVENT
END:VCALENDAR
