BEGIN:VCALENDAR
PRODID:-//kirchenweb.ch gmbh//veranstaltungsausgabe v2.0//DE
VERSION:2.0
METHOD:PUBLISH
BEGIN:VEVENT
DTSTART:20261115T160000Z
DTEND:20261115T170000Z
LOCATION:Reformierte Kirche\, Stadtplatz 39\, 3270 Aarberg
TRANSP:OPAQUE
SEQUENCE:0
UID:90342-veranstaltung@kirchenregion-aarberg.ch
DTSTAMP:20260131T152453Z
DESCRIPTION:Kontakt: kerstin.moeri@kirche-aarberg.ch\n\nWeitere Infos:
  https://www.kirchenregion-aarberg.ch/veranstaltung/90342
SUMMARY:Konzert Schützenchörli
PRIORITY:5
X-MICROSOFT-CDO-IMPORTANCE:1
CLASS:PUBLIC
END:VEVENT
END:VCALENDAR
