BEGIN:VCALENDAR
PRODID:-//kirchenweb.ch gmbh//veranstaltungsausgabe v2.0//DE
VERSION:2.0
METHOD:PUBLISH
BEGIN:VEVENT
DTSTART:20260905T120000Z
DTEND:20260905T130000Z
LOCATION:Reformierte Kirche\, Stadtplatz 39\, 3270 Aarberg
TRANSP:OPAQUE
SEQUENCE:0
UID:91166-veranstaltung@kirchenregion-aarberg.ch
DTSTAMP:20260324T132534Z
DESCRIPTION:Weitere Informationen folgen in Kürze\n\nKontakt:
  kerstin.moeri@kirche-aarberg.ch\n\nWeitere Infos:
  https://www.kirchenregion-aarberg.ch/veranstaltung/91166
SUMMARY:Kirchturmfest
PRIORITY:5
X-MICROSOFT-CDO-IMPORTANCE:1
CLASS:PUBLIC
END:VEVENT
END:VCALENDAR
